BEGIN:VCALENDAR
VERSION:2.0
PRODID:-//Tukios.com/
BEGIN:VEVENT
UID:124c474e-b866-4ee4-bf36-a7b6bd60eed1@www.varnumfuneralhome.com
DTSTAMP:20260424T092831Z
DTSTART:20260504T210000Z
DTEND:20260504T230000Z
SUMMARY:Visitation
DESCRIPTION:
URL:https://www.varnumfuneralhome.com/obituaries/harriet-dejesus
LOCATION:Varnum Funeral Home 43 E Main St  West Brookfield MA 01585
GEO:42.2354105;-72.138605
END:VEVENT
END:VCALENDAR