BEGIN:VCALENDAR
VERSION:2.0
PRODID:-//Tukios.com/
BEGIN:VEVENT
UID:eec6dbbd-47f1-449f-a679-056c5a2ca837@www.varnumfuneralhome.com
DTSTAMP:20260424T093426Z
DTSTART:20260505T150000Z
DTEND:20260505T160000Z
SUMMARY:Graveside Service
DESCRIPTION:
URL:https://www.varnumfuneralhome.com/obituaries/harriet-dejesus
LOCATION:St. John Cemetery 260 Cambridge Street  Worcester MA 01603
GEO:42.2414273;-71.8243806
END:VEVENT
END:VCALENDAR