BEGIN:VCALENDAR
VERSION:2.0
PRODID:-//Tukios.com/
BEGIN:VEVENT
UID:d5570525-5501-40c9-b684-0e0561001bd0@www.varnumfuneralhome.com
DTSTAMP:20260421T014846Z
DTSTART:20260429T140000Z
DTEND:20260429T160000Z
SUMMARY:Visitation
DESCRIPTION:
URL:https://www.varnumfuneralhome.com/obituaries/thomas-furgal
LOCATION:Varnum Funeral Home 43 E Main St  West Brookfield MA 01585
GEO:42.2354105;-72.138605
END:VEVENT
END:VCALENDAR