BEGIN:VCALENDAR
VERSION:2.0
PRODID:-//Tukios.com/
BEGIN:VEVENT
UID:7c3313cf-fadd-41da-a9ef-229f927758a6@www.varnumfuneralhome.com
DTSTAMP:20260421T014433Z
DTSTART:20260429T160000Z
DTEND:20260429T170000Z
SUMMARY:Burial
DESCRIPTION:
URL:https://www.varnumfuneralhome.com/obituaries/thomas-furgal
LOCATION:Oak Knoll Cemetery 20 Flynt Street  Palmer MA 01069
GEO:42.1810148;-72.3122928
END:VEVENT
END:VCALENDAR